BEGIN:VCALENDAR
VERSION:2.0
PRODID:-//jEvents 2.0 for Joomla//EN
CALSCALE:GREGORIAN
METHOD:PUBLISH
BEGIN:VEVENT
UID:e8b20a239041b5e983443af01a3555a9
CATEGORIES:Vereine
CREATED:20231024T120104
SUMMARY:Pound Up
DESCRIPTION:Frauen //  Sabine Schmitz\n
X-ALT-DESC;FMTTYPE=text/html:<p>Frauen //  Sabine Schmitz</p>
DTSTAMP:20260422T222945
DTSTART:20231130T180000
DTEND:20231130T190000
SEQUENCE:0
TRANSP:OPAQUE
END:VEVENT
END:VCALENDAR