BEGIN:VCALENDAR
VERSION:2.0
PRODID:-//jEvents 2.0 for Joomla//EN
CALSCALE:GREGORIAN
METHOD:PUBLISH
BEGIN:VEVENT
UID:502b63556772768edb672d9520a9aadf
CATEGORIES:Vereine
CREATED:20231024T103727
SUMMARY:KV Gamlen Showtanz
DESCRIPTION:Showtanz (Gruppe Mara)\n
X-ALT-DESC;FMTTYPE=text/html:<p>Showtanz (Gruppe Mara)</p>
DTSTAMP:20260422T222906
DTSTART:20231128T170000
DTEND:20231128T190000
SEQUENCE:0
TRANSP:OPAQUE
END:VEVENT
END:VCALENDAR