BEGIN:VCALENDAR
VERSION:2.0
PRODID:-//jEvents 2.0 for Joomla//EN
CALSCALE:GREGORIAN
METHOD:PUBLISH
BEGIN:VEVENT
UID:e178a60c62e0eb115397e46e29c17d8a
CATEGORIES:Vereine
CREATED:20231024T102754
SUMMARY:FZ Gamlen Üben
DESCRIPTION:<p>Monatliche Probe FZ Gamlen</p>
DTSTAMP:20260423T110159
DTSTART:20231006T180000
SEQUENCE:0
TRANSP:OPAQUE
END:VEVENT
END:VCALENDAR