BEGIN:VCALENDAR
VERSION:2.0
PRODID:-//jEvents 2.0 for Joomla//EN
CALSCALE:GREGORIAN
METHOD:PUBLISH
BEGIN:VEVENT
UID:3535a420655c960eb51a2cf111b5ca7e
CATEGORIES:Gemeindehaus
CREATED:20250509T101810
SUMMARY:536175
DESCRIPTION:
DTSTAMP:20260424T224731
DTSTART;VALUE=DATE:20250920
DTEND;VALUE=DATE:20250921
SEQUENCE:0
TRANSP:OPAQUE
END:VEVENT
END:VCALENDAR