BEGIN:VCALENDAR
VERSION:2.0
PRODID:-//jEvents 2.0 for Joomla//EN
CALSCALE:GREGORIAN
METHOD:PUBLISH
BEGIN:VEVENT
UID:72a54bd3b7be4ae8a4887ee516700257
CATEGORIES:Gemeindehaus
CREATED:20250509T095938
SUMMARY:563156
DESCRIPTION:
DTSTAMP:20260424T212208
DTSTART;VALUE=DATE:20250913
DTEND;VALUE=DATE:20250914
SEQUENCE:0
TRANSP:OPAQUE
END:VEVENT
END:VCALENDAR