BEGIN:VCALENDAR
VERSION:2.0
PRODID:-//jEvents 2.0 for Joomla//EN
CALSCALE:GREGORIAN
METHOD:PUBLISH
BEGIN:VEVENT
UID:c4113b31b41c74e6cf623d5c72c095b4
CATEGORIES:Gemeindehaus
CREATED:20250509T095754
SUMMARY:579419
DESCRIPTION:
DTSTAMP:20260425T043020
DTSTART;VALUE=DATE:20250817
DTEND;VALUE=DATE:20250818
SEQUENCE:0
TRANSP:OPAQUE
END:VEVENT
END:VCALENDAR