BEGIN:VCALENDAR
VERSION:2.0
PRODID:-//jEvents 2.0 for Joomla//EN
CALSCALE:GREGORIAN
METHOD:PUBLISH
BEGIN:VEVENT
UID:ff70af9e66d0097869496854dd36bd46
CATEGORIES:Gemeindehaus
CREATED:20250509T095701
SUMMARY:580262
DESCRIPTION:
DTSTAMP:20260421T232645
DTSTART;VALUE=DATE:20250524
DTEND;VALUE=DATE:20250525
SEQUENCE:0
TRANSP:OPAQUE
END:VEVENT
END:VCALENDAR