BEGIN:VCALENDAR
VERSION:2.0
PRODID:-//jEvents 2.0 for Joomla//EN
CALSCALE:GREGORIAN
METHOD:PUBLISH
BEGIN:VEVENT
UID:b3012a51a61b6edf1b2316e0ea2b799b
CATEGORIES:Gemeindehaus
CREATED:20250509T095534
SUMMARY:588823
DESCRIPTION:
DTSTAMP:20260423T111331
DTSTART;VALUE=DATE:20250621
DTEND;VALUE=DATE:20250622
SEQUENCE:0
TRANSP:OPAQUE
END:VEVENT
END:VCALENDAR