BEGIN:VCALENDAR
VERSION:2.0
PRODID:-//jEvents 2.0 for Joomla//EN
CALSCALE:GREGORIAN
METHOD:PUBLISH
BEGIN:VEVENT
UID:d95311fa3fab8f8989beea4b34f2fae8
CATEGORIES:Gemeindehaus
CREATED:20250509T095434
SUMMARY:589289
DESCRIPTION:
DTSTAMP:20260424T103806
DTSTART;VALUE=DATE:20250926
DTEND;VALUE=DATE:20250927
SEQUENCE:0
TRANSP:OPAQUE
END:VEVENT
END:VCALENDAR