BEGIN:VCALENDAR
VERSION:2.0
PRODID:-//jEvents 2.0 for Joomla//EN
CALSCALE:GREGORIAN
METHOD:PUBLISH
BEGIN:VEVENT
UID:29f9fb1a9d83140fbbc857cb39f60935
CATEGORIES:Gemeindehaus
CREATED:20250509T095312
SUMMARY:590067
DESCRIPTION:
DTSTAMP:20260424T104852
DTSTART;VALUE=DATE:20250705
DTEND;VALUE=DATE:20250706
SEQUENCE:0
TRANSP:OPAQUE
END:VEVENT
END:VCALENDAR