BEGIN:VCALENDAR
VERSION:2.0
PRODID:-//jEvents 2.0 for Joomla//EN
CALSCALE:GREGORIAN
METHOD:PUBLISH
BEGIN:VEVENT
UID:a5069ce098060c9f4495f8eac03a47e3
CATEGORIES:Gemeindehaus
CREATED:20250509T095102
SUMMARY:587883
DESCRIPTION:
DTSTAMP:20260424T210507
DTSTART;VALUE=DATE:20250628
DTEND;VALUE=DATE:20250629
SEQUENCE:0
TRANSP:OPAQUE
END:VEVENT
END:VCALENDAR