BEGIN:VCALENDAR
VERSION:2.0
PRODID:-//jEvents 2.0 for Joomla//EN
CALSCALE:GREGORIAN
METHOD:PUBLISH
BEGIN:VEVENT
UID:341d271dcfd70395b4cdb149af2e16f5
CATEGORIES:Gemeindehaus
CREATED:20250509T094558
SUMMARY:560501
DESCRIPTION:
DTSTAMP:20260421T232650
DTSTART;VALUE=DATE:20250510
DTEND;VALUE=DATE:20250511
SEQUENCE:0
TRANSP:OPAQUE
END:VEVENT
END:VCALENDAR