BEGIN:VCALENDAR
VERSION:2.0
PRODID:-//jEvents 2.0 for Joomla//EN
CALSCALE:GREGORIAN
METHOD:PUBLISH
BEGIN:VEVENT
UID:bcacf693f927588d95fe683ec8a422c0
CATEGORIES:Gemeindehaus
CREATED:20240828T105401
SUMMARY:Geburtstagsfeier
DESCRIPTION:
DTSTAMP:20260424T121759
DTSTART;VALUE=DATE:20250405
DTEND;VALUE=DATE:20250406
SEQUENCE:0
TRANSP:OPAQUE
END:VEVENT
END:VCALENDAR