BEGIN:VCALENDAR
VERSION:2.0
PRODID:-//jEvents 2.0 for Joomla//EN
CALSCALE:GREGORIAN
METHOD:PUBLISH
BEGIN:VEVENT
UID:2adc1fbb7ad495f46c12fcfb6b8a072c
CATEGORIES:Gemeindehaus
CREATED:20240828T104334
SUMMARY:Geburtstagsfeier
DESCRIPTION:
DTSTAMP:20260425T141140
DTSTART;VALUE=DATE:20250329
DTEND;VALUE=DATE:20250330
SEQUENCE:0
TRANSP:OPAQUE
END:VEVENT
END:VCALENDAR