BEGIN:VCALENDAR
VERSION:2.0
PRODID:-//jEvents 2.0 for Joomla//EN
CALSCALE:GREGORIAN
METHOD:PUBLISH
BEGIN:VEVENT
UID:dcea6fa5faa3d47dc7d34c24a8a46171
CATEGORIES:Gemeindehaus
CREATED:20240828T100753
SUMMARY:Seniorentag
DESCRIPTION:
DTSTAMP:20260421T233452
DTSTART;VALUE=DATE:20251207
DTEND;VALUE=DATE:20251208
SEQUENCE:0
TRANSP:OPAQUE
END:VEVENT
END:VCALENDAR