BEGIN:VCALENDAR
VERSION:2.0
PRODID:-//jEvents 2.0 for Joomla//EN
CALSCALE:GREGORIAN
METHOD:PUBLISH
BEGIN:VEVENT
UID:4ae607ff9251f3a1d6c10f1da40747d7
CATEGORIES:Gemeindehaus
CREATED:20240828T100715
SUMMARY:Tag der Gemeinde
DESCRIPTION:
DTSTAMP:20260423T091805
DTSTART;VALUE=DATE:20251011
DTEND;VALUE=DATE:20251012
SEQUENCE:0
TRANSP:OPAQUE
END:VEVENT
END:VCALENDAR