BEGIN:VCALENDAR
VERSION:2.0
PRODID:-//jEvents 2.0 for Joomla//EN
CALSCALE:GREGORIAN
METHOD:PUBLISH
BEGIN:VEVENT
UID:0481c38ea6d4601e3df3cc580b413aee
CATEGORIES:Gemeindehaus
CREATED:20240828T100631
SUMMARY:14. Brohlbachlauf
DESCRIPTION:
DTSTAMP:20260424T224502
DTSTART;VALUE=DATE:20250809
DTEND;VALUE=DATE:20250810
SEQUENCE:0
TRANSP:OPAQUE
END:VEVENT
END:VCALENDAR