BEGIN:VCALENDAR
VERSION:2.0
PRODID:-//jEvents 2.0 for Joomla//EN
CALSCALE:GREGORIAN
METHOD:PUBLISH
BEGIN:VEVENT
UID:03a28e1561dad75bab4c815d87faaaef
CATEGORIES:Gemeindehaus
CREATED:20240828T100423
SUMMARY:Karneval
DESCRIPTION:
DTSTAMP:20260421T232439
DTSTART;VALUE=DATE:20250301
DTEND;VALUE=DATE:20250302
SEQUENCE:0
TRANSP:OPAQUE
END:VEVENT
END:VCALENDAR