BEGIN:VCALENDAR
VERSION:2.0
PRODID:-//jEvents 2.0 for Joomla//EN
CALSCALE:GREGORIAN
METHOD:PUBLISH
BEGIN:VEVENT
UID:5c7030185ae84e0dcf3d72d2987f186a
CATEGORIES:Gemeindehaus
CREATED:20240828T100247
SUMMARY:Aufbau Karneval
DESCRIPTION:
DTSTAMP:20260422T022945
DTSTART;VALUE=DATE:20250222
DTEND;VALUE=DATE:20250223
SEQUENCE:0
TRANSP:OPAQUE
END:VEVENT
END:VCALENDAR