BEGIN:VCALENDAR
VERSION:2.0
PRODID:-//jEvents 2.0 for Joomla//EN
CALSCALE:GREGORIAN
METHOD:PUBLISH
BEGIN:VEVENT
UID:d45b098d603be73c10c08505f96a2936
CATEGORIES:Brohlbachstübchen
CREATED:20240526T142231
SUMMARY:Klassentreffen 
DESCRIPTION:
DTSTAMP:20260422T063649
DTSTART;VALUE=DATE:20240831
DTEND;VALUE=DATE:20240901
SEQUENCE:0
TRANSP:OPAQUE
END:VEVENT
END:VCALENDAR