BEGIN:VCALENDAR
VERSION:2.0
PRODID:-//jEvents 2.0 for Joomla//EN
CALSCALE:GREGORIAN
METHOD:PUBLISH
BEGIN:VEVENT
UID:aa31d2ee89e527fc8c49a9c4be9fdd76
CATEGORIES:Vereine
CREATED:20240419T083812
SUMMARY:JHV Jagdgenossenschaft
DESCRIPTION:
DTSTAMP:20260424T002913
DTSTART:20240503T173000
DTEND:20240503T200000
SEQUENCE:0
TRANSP:OPAQUE
END:VEVENT
END:VCALENDAR