BEGIN:VCALENDAR
VERSION:2.0
PRODID:-//jEvents 2.0 for Joomla//EN
CALSCALE:GREGORIAN
METHOD:PUBLISH
BEGIN:VEVENT
UID:dd84c8ad61d5847ab1b67895ac8b4d96
CATEGORIES:Gemeindehaus
CREATED:20240326T113638
SUMMARY:Hochzeit
DESCRIPTION:
DTSTAMP:20260424T083340
DTSTART;VALUE=DATE:20240907
DTEND;VALUE=DATE:20240908
SEQUENCE:0
TRANSP:OPAQUE
END:VEVENT
END:VCALENDAR