BEGIN:VCALENDAR
VERSION:2.0
PRODID:-//jEvents 2.0 for Joomla//EN
CALSCALE:GREGORIAN
METHOD:PUBLISH
BEGIN:VEVENT
UID:1526490e714a5215ef12a493eb5e4292
CATEGORIES:Gemeindehaus
CREATED:20240326T113604
SUMMARY:Hochzeit
DESCRIPTION:
DTSTAMP:20260424T163117
DTSTART;VALUE=DATE:20240817
DTEND;VALUE=DATE:20240818
SEQUENCE:0
TRANSP:OPAQUE
END:VEVENT
END:VCALENDAR