BEGIN:VCALENDAR
VERSION:2.0
PRODID:-//jEvents 2.0 for Joomla//EN
CALSCALE:GREGORIAN
METHOD:PUBLISH
BEGIN:VEVENT
UID:00b76f7112d51048e1b74c80abac61f3
CATEGORIES:Gemeindehaus
CREATED:20240326T113503
SUMMARY:Geburtstagsfeier
DESCRIPTION:
DTSTAMP:20260424T053848
DTSTART;VALUE=DATE:20240706
DTEND;VALUE=DATE:20240707
SEQUENCE:0
TRANSP:OPAQUE
END:VEVENT
END:VCALENDAR