BEGIN:VCALENDAR
VERSION:2.0
PRODID:-//jEvents 2.0 for Joomla//EN
CALSCALE:GREGORIAN
METHOD:PUBLISH
BEGIN:VEVENT
UID:2e3fab0bbfa1bdc1f5ab3e6f99be81a9
CATEGORIES:Gemeindehaus
CREATED:20240326T111806
SUMMARY:Geburtstagsfeier
DESCRIPTION:
DTSTAMP:20260424T092111
DTSTART;VALUE=DATE:20240623
DTEND;VALUE=DATE:20240624
SEQUENCE:0
TRANSP:OPAQUE
END:VEVENT
END:VCALENDAR