BEGIN:VCALENDAR
VERSION:2.0
PRODID:-//jEvents 2.0 for Joomla//EN
CALSCALE:GREGORIAN
METHOD:PUBLISH
BEGIN:VEVENT
UID:adb43142bb692fc8114eab06c2dd80ef
CATEGORIES:Gemeindehaus
CREATED:20240326T110225
SUMMARY:ggf. Stichwahl
DESCRIPTION:
DTSTAMP:20260422T104940
DTSTART;VALUE=DATE:20240623
DTEND;VALUE=DATE:20240624
SEQUENCE:0
TRANSP:OPAQUE
END:VEVENT
END:VCALENDAR