BEGIN:VCALENDAR
VERSION:2.0
PRODID:-//jEvents 2.0 for Joomla//EN
CALSCALE:GREGORIAN
METHOD:PUBLISH
BEGIN:VEVENT
UID:6238b9b2769ac6db85b6989f06e2f8c6
CATEGORIES:Vereine
CREATED:20240326T110150
SUMMARY:GS Verkehrsschule
DESCRIPTION:
DTSTAMP:20260425T121150
DTSTART:20240614T060000
DTEND:20240614T110000
SEQUENCE:0
TRANSP:OPAQUE
END:VEVENT
END:VCALENDAR