BEGIN:VCALENDAR
VERSION:2.0
PRODID:-//jEvents 2.0 for Joomla//EN
CALSCALE:GREGORIAN
METHOD:PUBLISH
BEGIN:VEVENT
UID:b545eea1aa98d7f7fab8b576fde322eb
CATEGORIES:Vereine
CREATED:20240326T110135
SUMMARY:GS Verkehrsschule
DESCRIPTION:
DTSTAMP:20260424T060211
DTSTART:20240613T060000
DTEND:20240613T110000
SEQUENCE:0
TRANSP:OPAQUE
END:VEVENT
END:VCALENDAR