BEGIN:VCALENDAR
VERSION:2.0
PRODID:-//jEvents 2.0 for Joomla//EN
CALSCALE:GREGORIAN
METHOD:PUBLISH
BEGIN:VEVENT
UID:2a10cacfd8ec0f13a523f542d7c0d445
CATEGORIES:Vereine
CREATED:20240326T110121
SUMMARY:GS Verkehrsschule
DESCRIPTION:
DTSTAMP:20260424T060201
DTSTART:20240612T060000
DTEND:20240612T110000
SEQUENCE:0
TRANSP:OPAQUE
END:VEVENT
END:VCALENDAR