BEGIN:VCALENDAR
VERSION:2.0
PRODID:-//jEvents 2.0 for Joomla//EN
CALSCALE:GREGORIAN
METHOD:PUBLISH
BEGIN:VEVENT
UID:a85a9d88c48e69faa4e4558dd81214b8
CATEGORIES:Vereine
CREATED:20240326T105925
SUMMARY:GS Verkehrsschule
DESCRIPTION:
DTSTAMP:20260424T060140
DTSTART:20240611T060000
DTEND:20240611T110000
SEQUENCE:0
TRANSP:OPAQUE
END:VEVENT
END:VCALENDAR