BEGIN:VCALENDAR
VERSION:2.0
PRODID:-//jEvents 2.0 for Joomla//EN
CALSCALE:GREGORIAN
METHOD:PUBLISH
BEGIN:VEVENT
UID:958423919142ded6408ef45c2ed0d409
CATEGORIES:Gemeindehaus
CREATED:20240319T134520
SUMMARY:Wahl
DESCRIPTION:
DTSTAMP:20260424T034016
DTSTART;VALUE=DATE:20240609
DTEND;VALUE=DATE:20240610
SEQUENCE:0
TRANSP:OPAQUE
END:VEVENT
END:VCALENDAR