BEGIN:VCALENDAR
VERSION:2.0
PRODID:-//jEvents 2.0 for Joomla//EN
CALSCALE:GREGORIAN
METHOD:PUBLISH
BEGIN:VEVENT
UID:221ea47f242def40b24de909ce916971
CATEGORIES:Gemeindehaus
CREATED:20240319T134141
SUMMARY:Kommunion
DESCRIPTION:
DTSTAMP:20260425T193813
DTSTART;VALUE=DATE:20240407
DTEND;VALUE=DATE:20240408
SEQUENCE:0
TRANSP:OPAQUE
END:VEVENT
END:VCALENDAR