BEGIN:VCALENDAR
VERSION:2.0
PRODID:-//jEvents 2.0 for Joomla//EN
CALSCALE:GREGORIAN
METHOD:PUBLISH
BEGIN:VEVENT
UID:45416816fe9dad8771eb774df7591acf
CATEGORIES:Brohlbachstübchen
CREATED:20240117T180206
SUMMARY:Geburtstagsfeier
DESCRIPTION:
DTSTAMP:20260424T133105
DTSTART;VALUE=DATE:20240317
DTEND;VALUE=DATE:20240318
SEQUENCE:0
TRANSP:OPAQUE
END:VEVENT
END:VCALENDAR