BEGIN:VCALENDAR
VERSION:2.0
PRODID:-//jEvents 2.0 for Joomla//EN
CALSCALE:GREGORIAN
METHOD:PUBLISH
BEGIN:VEVENT
UID:242ef7df6b7e70562372438832d6f968
CATEGORIES:Brohlbachstübchen
CREATED:20231205T123437
SUMMARY:Kommunion
DESCRIPTION:
DTSTAMP:20260423T164059
DTSTART;VALUE=DATE:20240414
DTEND;VALUE=DATE:20240415
SEQUENCE:0
TRANSP:OPAQUE
END:VEVENT
END:VCALENDAR