BEGIN:VCALENDAR
VERSION:2.0
PRODID:-//jEvents 2.0 for Joomla//EN
CALSCALE:GREGORIAN
METHOD:PUBLISH
BEGIN:VEVENT
UID:5e29780a529c550a375652eabc7e1f96
CATEGORIES:Brohlbachstübchen
CREATED:20231205T123403
SUMMARY:Geburtstagsfeier
DESCRIPTION:
DTSTAMP:20260423T164054
DTSTART;VALUE=DATE:20240406
DTEND;VALUE=DATE:20240407
SEQUENCE:0
TRANSP:OPAQUE
END:VEVENT
END:VCALENDAR