BEGIN:VCALENDAR
VERSION:2.0
PRODID:-//jEvents 2.0 for Joomla//EN
CALSCALE:GREGORIAN
METHOD:PUBLISH
BEGIN:VEVENT
UID:785c17cd84a06acc38408174fb7f3335
CATEGORIES:Brohlbachstübchen
CREATED:20231205T122941
SUMMARY:Vermietung VdK ab 16 Uhr
DESCRIPTION:
DTSTAMP:20260423T122127
DTSTART:20240224T150000
SEQUENCE:0
TRANSP:OPAQUE
END:VEVENT
END:VCALENDAR