BEGIN:VCALENDAR
VERSION:2.0
PRODID:-//jEvents 2.0 for Joomla//EN
CALSCALE:GREGORIAN
METHOD:PUBLISH
BEGIN:VEVENT
UID:219454f1403718eb87945d2a07c29795
CATEGORIES:Brohlbachstübchen
CREATED:20231205T122810
SUMMARY:Vermietung Tobias Schüller
DESCRIPTION:
DTSTAMP:20260423T050750
DTSTART;VALUE=DATE:20231216
DTEND;VALUE=DATE:20231217
SEQUENCE:0
TRANSP:OPAQUE
END:VEVENT
END:VCALENDAR