BEGIN:VCALENDAR
VERSION:2.0
PRODID:-//jEvents 2.0 for Joomla//EN
CALSCALE:GREGORIAN
METHOD:PUBLISH
BEGIN:VEVENT
UID:9d9ca05e31460e634927e4cff065f69b
CATEGORIES:Brohlbachstübchen
CREATED:20231128T181741
SUMMARY:Sparkästchen Leerung
DESCRIPTION:
DTSTAMP:20260423T033559
DTSTART;VALUE=DATE:20231209
DTEND;VALUE=DATE:20231210
SEQUENCE:0
TRANSP:OPAQUE
END:VEVENT
END:VCALENDAR