BEGIN:VCALENDAR
VERSION:2.0
PRODID:-//jEvents 2.0 for Joomla//EN
CALSCALE:GREGORIAN
METHOD:PUBLISH
BEGIN:VEVENT
UID:c0a62d205429c0ae947bbe54af145dc7
CATEGORIES:Gemeindehaus
CREATED:20231025T140837
SUMMARY:Karneval
DESCRIPTION:
DTSTAMP:20260423T123409
DTSTART;VALUE=DATE:20240203
DTEND;VALUE=DATE:20240215
SEQUENCE:0
TRANSP:OPAQUE
END:VEVENT
END:VCALENDAR