BEGIN:VCALENDAR
VERSION:2.0
PRODID:-//jEvents 2.0 for Joomla//EN
CALSCALE:GREGORIAN
METHOD:PUBLISH
BEGIN:VEVENT
UID:da084acd60fce25ddbdd426038f9b4f9
CATEGORIES:Gemeindehaus
CREATED:20231025T110514
SUMMARY:Seniorenkaffee November
DESCRIPTION:
DTSTAMP:20260422T172702
DTSTART:20231108T140000
DTEND:20231108T170000
SEQUENCE:0
TRANSP:OPAQUE
END:VEVENT
END:VCALENDAR