BEGIN:VCALENDAR
VERSION:2.0
PRODID:-//jEvents 2.0 for Joomla//EN
CALSCALE:GREGORIAN
METHOD:PUBLISH
BEGIN:VEVENT
UID:64e33ff7a079a4e1a4bd04c9ff2bd709
CATEGORIES:Brohlbachstübchen
CREATED:20231025T110153
SUMMARY:Oktoberfest DGV
DESCRIPTION:
DTSTAMP:20260423T043508
DTSTART;VALUE=DATE:20231028
DTEND;VALUE=DATE:20231029
SEQUENCE:0
TRANSP:OPAQUE
END:VEVENT
END:VCALENDAR