BEGIN:VCALENDAR
VERSION:2.0
PRODID:-//jEvents 2.0 for Joomla//EN
CALSCALE:GREGORIAN
METHOD:PUBLISH
BEGIN:VEVENT
UID:6f51d57ae5df634a0d7619296bbec06e
CATEGORIES:Gemeindehaus
CREATED:20231024T120236
SUMMARY:St. Martin
DESCRIPTION:<p>St. Martin DSC</p>
DTSTAMP:20260424T225707
DTSTART;VALUE=DATE:20231111
DTEND;VALUE=DATE:20231112
SEQUENCE:0
TRANSP:OPAQUE
END:VEVENT
END:VCALENDAR