BEGIN:VCALENDAR
VERSION:2.0
PRODID:-//jEvents 2.0 for Joomla//EN
CALSCALE:GREGORIAN
METHOD:PUBLISH
BEGIN:VEVENT
UID:5171c73d4049c15de8bbdfef2d25717c
CATEGORIES:Vereine
CREATED:19700101T010000
SUMMARY:KV Gamlen Kindertanzgruppe
DESCRIPTION:<p>Kindertanzgruppe Eva Steffens</p>
DTSTAMP:20260422T214621
DTSTART:20231025T130000
DTEND:20231025T140000
SEQUENCE:0
RRULE:FREQ=WEEKLY;UNTIL=20240126T000000Z;INTERVAL=1;BYDAY=WE
TRANSP:OPAQUE
END:VEVENT
END:VCALENDAR