BEGIN:VCALENDAR
VERSION:2.0
PRODID:-//jEvents 2.0 for Joomla//EN
CALSCALE:GREGORIAN
METHOD:PUBLISH
BEGIN:VEVENT
UID:9e9c4da8543cdfb1bfd72fd36a11218e
CATEGORIES:Vereine
CREATED:19700101T010000
SUMMARY:SV Kaifenheim Jumping
DESCRIPTION:SV Kaifenheim Jumping\nJonas Junglas\nBreslauer Str. 11\n60598 Frankfurt am
  Main\n
X-ALT-DESC;FMTTYPE=text/html:<p>SV Kaifenheim Jumping</p><p>Jonas Junglas<br />Breslauer Str. 11<br />60
 598 Frankfurt am Main</p>
DTSTAMP:20260422T185257
DTSTART:20231117T150000
DTEND:20231117T180000
SEQUENCE:0
RRULE:FREQ=WEEKLY;COUNT=3;INTERVAL=1;BYDAY=FR
TRANSP:OPAQUE
END:VEVENT
END:VCALENDAR