BEGIN:VCALENDAR
VERSION:2.0
PRODID:-//jEvents 2.0 for Joomla//EN
CALSCALE:GREGORIAN
METHOD:PUBLISH
BEGIN:VEVENT
UID:e72f0c9a767fea916ae2b9e5a833b3b7
CATEGORIES:Gemeindehaus
CREATED:20231024T104902
SUMMARY:Silvesterfeier
DESCRIPTION:
DTSTAMP:20260423T185147
DTSTART;VALUE=DATE:20231231
DTEND;VALUE=DATE:20240101
SEQUENCE:0
TRANSP:OPAQUE
END:VEVENT
END:VCALENDAR