BEGIN:VCALENDAR
VERSION:2.0
PRODID:-//jEvents 2.0 for Joomla//EN
CALSCALE:GREGORIAN
METHOD:PUBLISH
BEGIN:VEVENT
UID:a31e3afdda6b57920d6725bfac7b10dd
CATEGORIES:Gemeindehaus
CREATED:20231024T104808
SUMMARY:Geburtstagsfeier
DESCRIPTION:
DTSTAMP:20260423T073802
DTSTART;VALUE=DATE:20231230
DTEND;VALUE=DATE:20231231
SEQUENCE:0
TRANSP:OPAQUE
END:VEVENT
END:VCALENDAR