BEGIN:VCALENDAR
VERSION:2.0
PRODID:-//jEvents 2.0 for Joomla//EN
CALSCALE:GREGORIAN
METHOD:PUBLISH
BEGIN:VEVENT
UID:9eeb328818b590fd5a3b5e853615a6c5
CATEGORIES:Gemeindehaus
CREATED:20231024T104734
SUMMARY:Seniorentag
DESCRIPTION:<p>Weihnachtlicher Seniorentag</p>
DTSTAMP:20260423T073808
DTSTART;VALUE=DATE:20231217
DTEND;VALUE=DATE:20231218
SEQUENCE:0
TRANSP:OPAQUE
END:VEVENT
END:VCALENDAR