BEGIN:VCALENDAR
VERSION:2.0
PRODID:-//jEvents 2.0 for Joomla//EN
CALSCALE:GREGORIAN
METHOD:PUBLISH
BEGIN:VEVENT
UID:3f8aea2dc381bdc50728e10d639ae899
CATEGORIES:Gemeindehaus
CREATED:20231024T104642
SUMMARY:Hochzeit
DESCRIPTION:
DTSTAMP:20260423T032407
DTSTART;VALUE=DATE:20231209
DTEND;VALUE=DATE:20231210
SEQUENCE:0
TRANSP:OPAQUE
END:VEVENT
END:VCALENDAR