BEGIN:VCALENDAR
VERSION:2.0
PRODID:-//jEvents 2.0 for Joomla//EN
CALSCALE:GREGORIAN
METHOD:PUBLISH
BEGIN:VEVENT
UID:b949b9a07c3c86380d4a3bacf801c67e
CATEGORIES:Gemeindehaus
CREATED:20231024T104527
SUMMARY:Geburtstagsfeier
DESCRIPTION:
DTSTAMP:20260424T190824
DTSTART;VALUE=DATE:20231028
DTEND;VALUE=DATE:20231029
SEQUENCE:0
TRANSP:OPAQUE
END:VEVENT
END:VCALENDAR