BEGIN:VCALENDAR
VERSION:2.0
PRODID:-//jEvents 2.0 for Joomla//EN
CALSCALE:GREGORIAN
METHOD:PUBLISH
BEGIN:VEVENT
UID:a7e3f0b43175255dab5c24a182bfecda
CATEGORIES:Vereine
CREATED:19700101T010000
SUMMARY:KV Gamlen Garde-Nachwuchs
DESCRIPTION:Garde Nachwuchs (Gruppe Mara)\n
X-ALT-DESC;FMTTYPE=text/html:<p>Garde Nachwuchs (Gruppe Mara)</p>
DTSTAMP:20260422T223120
DTSTART:20231024T150000
DTEND:20231024T160000
SEQUENCE:0
RRULE:FREQ=WEEKLY;UNTIL=20240125T000000Z;INTERVAL=1;BYDAY=TU
TRANSP:OPAQUE
END:VEVENT
END:VCALENDAR